BEGIN:VCALENDAR
VERSION:2.0
PRODID:-//Queer Geek! - ECPv6.15.17//NONSGML v1.0//EN
CALSCALE:GREGORIAN
METHOD:PUBLISH
X-ORIGINAL-URL:https://queergeekseattle.org
X-WR-CALDESC:Events for Queer Geek!
REFRESH-INTERVAL;VALUE=DURATION:PT1H
X-Robots-Tag:noindex
X-PUBLISHED-TTL:PT1H
BEGIN:VTIMEZONE
TZID:America/Los_Angeles
BEGIN:DAYLIGHT
TZOFFSETFROM:-0800
TZOFFSETTO:-0700
TZNAME:PDT
DTSTART:20180311T100000
END:DAYLIGHT
BEGIN:STANDARD
TZOFFSETFROM:-0700
TZOFFSETTO:-0800
TZNAME:PST
DTSTART:20181104T090000
END:STANDARD
BEGIN:DAYLIGHT
TZOFFSETFROM:-0800
TZOFFSETTO:-0700
TZNAME:PDT
DTSTART:20190310T100000
END:DAYLIGHT
BEGIN:STANDARD
TZOFFSETFROM:-0700
TZOFFSETTO:-0800
TZNAME:PST
DTSTART:20191103T090000
END:STANDARD
BEGIN:DAYLIGHT
TZOFFSETFROM:-0800
TZOFFSETTO:-0700
TZNAME:PDT
DTSTART:20200308T100000
END:DAYLIGHT
BEGIN:STANDARD
TZOFFSETFROM:-0700
TZOFFSETTO:-0800
TZNAME:PST
DTSTART:20201101T090000
END:STANDARD
BEGIN:DAYLIGHT
TZOFFSETFROM:-0800
TZOFFSETTO:-0700
TZNAME:PDT
DTSTART:20210314T100000
END:DAYLIGHT
BEGIN:STANDARD
TZOFFSETFROM:-0700
TZOFFSETTO:-0800
TZNAME:PST
DTSTART:20211107T090000
END:STANDARD
END:VTIMEZONE
BEGIN:VEVENT
DTSTART;TZID=America/Los_Angeles:20200328T130000
DTEND;TZID=America/Los_Angeles:20200328T180000
DTSTAMP:20260421T010127
CREATED:20200221T194544Z
LAST-MODIFIED:20200312T224915Z
UID:1520-1585400400-1585418400@queergeekseattle.org
SUMMARY:**CANCELLED** Board Games March 2020 Meetup
DESCRIPTION:Just a chance to meet up for some LGBTQ-flavored (allies also welcome) gaming and socializing. We start at 1 but feel free to drop by when you are able! It’s nothing formal. This meetup happens one Saturday a month. Co-hosts (as available) are John Cantrell-Blaine\, Randy McKinnon\, Tom Peskie and Andrew Shultz. \nPhoenix has been lovely enough to offer their space for gaming. Their space is on Broadway in Capitol Hill next to Dick’s. The gaming space is in the back of the store.  They have a selection of demo games. I’ll bring some games and definitely bring things you’d like to play (and feel free to mention any requests or games you want to bring). You are welcome to bring your own food and drink\, but they do sell (non-alcoholic) drinks there. Of course\, since they are offering us their space for free\, please consider buying a drink and/or shopping at the store if you can and please treat the staff well. \nFeel free to drop by and meet cool people without partaking of games\, that’s fine too. If you haven’t played a board game since Sorry and Monopoly\, no worries. We’re very friendly to new players. If you’re new to the group\, please come say hi and let us know that you’re there for the event\, as there are other patrons at the store (I’ll keep an eye out too). If you’ve been coming to the group for a while and play with the same crew each time\, try to switch it up sometimes and play games with new folks! \nFeel free to invite friends and such! (Please note that since this is a closed group\, events may not be public to non-members\, so feel free to invite them to Queer Geek! Seattle if they want to RSVP\, or they can just show up. There is also a public version of the event on our Queer Geek Facebook “like page.”) \nWe’ll be providing (and highly recommend wearing) name tag stickers that indicate gender pronouns. We want this to be a comfortable environment for everyone\, so please respect people’s listed or stated gender pronouns. \nNEW: Sign up for our mailing list to keep informed of Queer Geek news and events: https://queergeekseattle.org/mailinglist \nMake sure you note our Queer Geek event code of conduct: http://queergeekseattle.org/code-of-conduct/
URL:https://queergeekseattle.org/event/board-games-march-2020-meetup/
LOCATION:Phoenix Comics & Games\, 113 Broadway E\, Seattle\, WA\, 98102\, United States
CATEGORIES:Board Games
ATTACH;FMTTYPE=image/jpeg:https://queergeekseattle.org/wp-content/uploads/2020/02/qg-web-event-1290.jpg
END:VEVENT
BEGIN:VEVENT
DTSTART;TZID=America/Los_Angeles:20200208T130000
DTEND;TZID=America/Los_Angeles:20200208T180000
DTSTAMP:20260421T010127
CREATED:20200221T195401Z
LAST-MODIFIED:20200221T195401Z
UID:1526-1581166800-1581184800@queergeekseattle.org
SUMMARY:Board Games Feb 2020 Meetup
DESCRIPTION:Just a chance to meet up for some LGBTQ-flavored (allies also welcome) gaming and socializing. We start at 1 but feel free to drop by when you are able! It’s nothing formal. This meetup happens one Saturday a month. Co-hosts (as available) are John Cantrell-Blaine\, Randy McKinnon\, Tom Peskie and Andrew Shultz. \nPhoenix has been lovely enough to offer their space for gaming. Their space is on Broadway in Capitol Hill next to Dick’s. The gaming space is in the back of the store.  They have a selection of demo games. I’ll bring some games and definitely bring things you’d like to play (and feel free to mention any requests or games you want to bring). You are welcome to bring your own food and drink\, but they do sell (non-alcoholic) drinks there. Of course\, since they are offering us their space for free\, please consider buying a drink and/or shopping at the store if you can and please treat the staff well. \nFeel free to drop by and meet cool people without partaking of games\, that’s fine too. If you haven’t played a board game since Sorry and Monopoly\, no worries. We’re very friendly to new players. If you’re new to the group\, please come say hi and let us know that you’re there for the event\, as there are other patrons at the store (I’ll keep an eye out too). If you’ve been coming to the group for a while and play with the same crew each time\, try to switch it up sometimes and play games with new folks! \nFeel free to invite friends and such! (Please note that since this is a closed group\, events may not be public to non-members\, so feel free to invite them to Queer Geek! Seattle if they want to RSVP\, or they can just show up. There is also a public version of the event on our Queer Geek Facebook “like page.”) \nWe’ll be providing (and highly recommend wearing) name tag stickers that indicate gender pronouns. We want this to be a comfortable environment for everyone\, so please respect people’s listed or stated gender pronouns. \nNEW: Sign up for our mailing list to keep informed of Queer Geek news and events: https://queergeekseattle.org/mailinglist \nMake sure you note our Queer Geek event code of conduct: http://queergeekseattle.org/code-of-conduct/
URL:https://queergeekseattle.org/event/board-games-feb-2020-meetup/
LOCATION:Phoenix Comics & Games\, 113 Broadway E\, Seattle\, WA\, 98102\, United States
CATEGORIES:Board Games
ATTACH;FMTTYPE=image/jpeg:https://queergeekseattle.org/wp-content/uploads/2020/02/qg-web-event-1290.jpg
END:VEVENT
BEGIN:VEVENT
DTSTART;TZID=America/Los_Angeles:20191215T050000
DTEND;TZID=America/Los_Angeles:20191215T080000
DTSTAMP:20260421T010127
CREATED:20191202T041556Z
LAST-MODIFIED:20191202T041556Z
UID:206-1576386000-1576396800@queergeekseattle.org
SUMMARY:December Board Game Meetup (Lynnwood)
DESCRIPTION:Meet up for some gaming and socializing. All LGBTQ folks and allies are welcome. You can just come to chat and meet new people or join in and play some games. We are very welcoming to new board gamers if you want to learn as well. Feel free to invite friends! \nThe venue has delicious drinks\, ice cream\, and snacks available and there is a Little Caesar’s Pizza next door. \nThey also have a demo library full of games\, but feel free to bring your own. \nWe’ll be providing name tag stickers that indicate gender pronouns. We want this to be a comfortable environment for everyone\, so please respect people’s listed or stated gender pronouns.
URL:https://queergeekseattle.org/event/december-board-game-meetup-lynnwood-2/
LOCATION:WA
CATEGORIES:Board Games
END:VEVENT
BEGIN:VEVENT
DTSTART;TZID=America/Los_Angeles:20191215T050000
DTEND;TZID=America/Los_Angeles:20191215T080000
DTSTAMP:20260421T010127
CREATED:20191202T041556Z
LAST-MODIFIED:20191202T041556Z
UID:197-1576386000-1576396800@queergeekseattle.org
SUMMARY:December Board Game Meetup (Lynnwood)
DESCRIPTION:Meet up for some gaming and socializing. All LGBTQ folks and allies are welcome. You can just come to chat and meet new people or join in and play some games. We are very welcoming to new board gamers if you want to learn as well. Feel free to invite friends! \nThe venue has delicious drinks\, ice cream\, and snacks available and there is a Little Caesar’s Pizza next door. \nThey also have a demo library full of games\, but feel free to bring your own. \nWe’ll be providing name tag stickers that indicate gender pronouns. We want this to be a comfortable environment for everyone\, so please respect people’s listed or stated gender pronouns.
URL:https://queergeekseattle.org/event/december-board-game-meetup-lynnwood/
LOCATION:WA
CATEGORIES:Board Games
END:VEVENT
BEGIN:VEVENT
DTSTART;TZID=America/Los_Angeles:20191214T050000
DTEND;TZID=America/Los_Angeles:20191214T100000
DTSTAMP:20260421T010127
CREATED:20191202T041214Z
LAST-MODIFIED:20191202T041214Z
UID:205-1576299600-1576317600@queergeekseattle.org
SUMMARY:Board Games December Meetup
DESCRIPTION:Just a chance to meet up for some LGBTQ-flavored (allies also welcome) gaming and socializing. We start at 1 but feel free to drop by when you are able! It’s nothing formal. This meetup happens one Saturday a month. Co-hosts (as available) are John Cantrell-Blaine\, Randy McKinnon\, Tom Peskie and Andrew Shultz. \nPhoenix has been lovely enough to offer their space for gaming. Their space is on Broadway in Capitol Hill next to Dick’s. The gaming space is in the back of the store.  They have a selection of demo games. I’ll bring some games and definitely bring things you’d like to play (and feel free to mention any requests or games you want to bring). You are welcome to bring your own food and drink\, but they do sell (non-alcoholic) drinks there. Of course\, since they are offering us their space for free\, please consider buying a drink and/or shopping at the store if you can and please treat the staff well. \nFeel free to drop by and meet cool people without partaking of games\, that’s fine too. If you haven’t played a board game since Sorry and Monopoly\, no worries. We’re very friendly to new players. If you’re new to the group\, please come say hi and let us know that you’re there for the event\, as there are other patrons at the store (I’ll keep an eye out too). If you’ve been coming to the group for a while and play with the same crew each time\, try to switch it up sometimes and play games with new folks! \nFeel free to invite friends and such! (Please note that since this is a closed group\, events may not be public to non-members\, so feel free to invite them to Queer Geek! Seattle if they want to RSVP\, or they can just show up. There is also a public version of the event on our Queer Geek Facebook “like page.”) \nWe’ll be providing (and highly recommend wearing) name tag stickers that indicate gender pronouns. We want this to be a comfortable environment for everyone\, so please respect people’s listed or stated gender pronouns. \nMake sure you note our Queer Geek event code of conduct: http://queergeekseattle.org/code-of-conduct/
URL:https://queergeekseattle.org/event/board-games-december-meetup-2/
LOCATION:Phoenix Comics & Games\, 113 Broadway E\, Seattle\, WA\, 98102\, United States
CATEGORIES:Board Games
ATTACH;FMTTYPE=:
END:VEVENT
BEGIN:VEVENT
DTSTART;TZID=America/Los_Angeles:20191214T050000
DTEND;TZID=America/Los_Angeles:20191214T100000
DTSTAMP:20260421T010127
CREATED:20191202T041214Z
LAST-MODIFIED:20191202T041214Z
UID:194-1576299600-1576317600@queergeekseattle.org
SUMMARY:Board Games December Meetup
DESCRIPTION:Just a chance to meet up for some LGBTQ-flavored (allies also welcome) gaming and socializing. We start at 1 but feel free to drop by when you are able! It’s nothing formal. This meetup happens one Saturday a month. Co-hosts (as available) are John Cantrell-Blaine\, Randy McKinnon\, Tom Peskie and Andrew Shultz. \nPhoenix has been lovely enough to offer their space for gaming. Their space is on Broadway in Capitol Hill next to Dick’s. The gaming space is in the back of the store.  They have a selection of demo games. I’ll bring some games and definitely bring things you’d like to play (and feel free to mention any requests or games you want to bring). You are welcome to bring your own food and drink\, but they do sell (non-alcoholic) drinks there. Of course\, since they are offering us their space for free\, please consider buying a drink and/or shopping at the store if you can and please treat the staff well. \nFeel free to drop by and meet cool people without partaking of games\, that’s fine too. If you haven’t played a board game since Sorry and Monopoly\, no worries. We’re very friendly to new players. If you’re new to the group\, please come say hi and let us know that you’re there for the event\, as there are other patrons at the store (I’ll keep an eye out too). If you’ve been coming to the group for a while and play with the same crew each time\, try to switch it up sometimes and play games with new folks! \nFeel free to invite friends and such! (Please note that since this is a closed group\, events may not be public to non-members\, so feel free to invite them to Queer Geek! Seattle if they want to RSVP\, or they can just show up. There is also a public version of the event on our Queer Geek Facebook “like page.”) \nWe’ll be providing (and highly recommend wearing) name tag stickers that indicate gender pronouns. We want this to be a comfortable environment for everyone\, so please respect people’s listed or stated gender pronouns. \nMake sure you note our Queer Geek event code of conduct: http://queergeekseattle.org/code-of-conduct/
URL:https://queergeekseattle.org/event/board-games-december-meetup/
LOCATION:Phoenix Comics & Games\, 113 Broadway E\, Seattle\, WA\, 98102\, United States
CATEGORIES:Board Games
ATTACH;FMTTYPE=:
END:VEVENT
BEGIN:VEVENT
DTSTART;TZID=America/Los_Angeles:20191123T020000
DTEND;TZID=America/Los_Angeles:20191124T140000
DTSTAMP:20260421T010127
CREATED:20191023T130552Z
LAST-MODIFIED:20191023T130552Z
UID:204-1574474400-1574604000@queergeekseattle.org
SUMMARY:Extra Life Marathon 2019
DESCRIPTION:The Extra Life Marathon is coming up\, where we game for 24 hours to raise money for Seattle Children’s. Typically\, we are able to raise a few thousand dollars as a team – we’ve started with $4500 goal but can always raise it! \nThanks to Phoenix Comics and Games for hosting! Go shop there. \nA Few Quick Notes: \n1. We game for 12 hours on Saturday and another 12 hours on Sunday\, with time to sleep in between. That means 10AM-10PM Sat\, 10AM-10PM Sun. (Times are TBD\, but these are the times we did last year.) \n2. You don’t have to attend the whole time! If you want to drop by for a few hours\, that’s cool. You don’t have to join the team to attend (though it’s encouraged). If you are participating as a team member\, technically you need to do 24 hours of gaming\, but you can always make up any missed hours on your own. \n3. Gaming includes anything that could be construed as a game. Past years have included lots of board games and video games (PS4\, Switch\, etc.). \n4. The event is free but donations are encouraged\, particularly if you are not participating in the whole 24 hours\, to help us meet our goal. \n5. You do not have to attend the physical event to join the team! We encourage you too\, and probably more fun\, but if you live out of the area and want to be part of our team\, you can feel free to game on your own or figure something else out. We’ve had team members who did a lot of solo gaming\, including live streams\, and raised a lot of money. \n6. Please feel free to bring food and drink. We may have a banquet permit to allow beer/wine/cider (TBA)\, but please make sure to bring your ID if you want to partake of any alcohol. \n6. We live streamed the event last year and are looking into doing it again. \nLet me know if you have any questions and feel free to join the team! (Please note: if you want to join the team\, you MUST join via the link above.) \nWe’ll be providing name tag stickers that indicate gender pronouns. We want this to be a comfortable environment for everyone\, so please respect people’s listed or stated gender pronouns. \nMake sure you note our Queer Geek event Code of Conduct \nWatch this space for more info as we have it!
URL:https://queergeekseattle.org/event/extra-life-marathon-2019-2/
LOCATION:Phoenix Comics & Games\, 113 Broadway E\, Seattle\, WA\, 98102\, United States
CATEGORIES:Board Games,Video Games
ATTACH;FMTTYPE=:
END:VEVENT
BEGIN:VEVENT
DTSTART;TZID=America/Los_Angeles:20191123T020000
DTEND;TZID=America/Los_Angeles:20191124T140000
DTSTAMP:20260421T010127
CREATED:20191023T130552Z
LAST-MODIFIED:20191023T130552Z
UID:169-1574474400-1574604000@queergeekseattle.org
SUMMARY:Extra Life Marathon 2019
DESCRIPTION:The Extra Life Marathon is coming up\, where we game for 24 hours to raise money for Seattle Children’s. Typically\, we are able to raise a few thousand dollars as a team – we’ve started with $4500 goal but can always raise it! \nThanks to Phoenix Comics and Games for hosting! Go shop there. \nA Few Quick Notes: \n1. We game for 12 hours on Saturday and another 12 hours on Sunday\, with time to sleep in between. That means 10AM-10PM Sat\, 10AM-10PM Sun. (Times are TBD\, but these are the times we did last year.) \n2. You don’t have to attend the whole time! If you want to drop by for a few hours\, that’s cool. You don’t have to join the team to attend (though it’s encouraged). If you are participating as a team member\, technically you need to do 24 hours of gaming\, but you can always make up any missed hours on your own. \n3. Gaming includes anything that could be construed as a game. Past years have included lots of board games and video games (PS4\, Switch\, etc.). \n4. The event is free but donations are encouraged\, particularly if you are not participating in the whole 24 hours\, to help us meet our goal. \n5. You do not have to attend the physical event to join the team! We encourage you too\, and probably more fun\, but if you live out of the area and want to be part of our team\, you can feel free to game on your own or figure something else out. We’ve had team members who did a lot of solo gaming\, including live streams\, and raised a lot of money. \n6. Please feel free to bring food and drink. We may have a banquet permit to allow beer/wine/cider (TBA)\, but please make sure to bring your ID if you want to partake of any alcohol. \n6. We live streamed the event last year and are looking into doing it again. \nLet me know if you have any questions and feel free to join the team! (Please note: if you want to join the team\, you MUST join via the link above.) \nWe’ll be providing name tag stickers that indicate gender pronouns. We want this to be a comfortable environment for everyone\, so please respect people’s listed or stated gender pronouns. \nMake sure you note our Queer Geek event Code of Conduct \nWatch this space for more info as we have it!
URL:https://queergeekseattle.org/event/extra-life-marathon-2019/
LOCATION:Phoenix Comics & Games\, 113 Broadway E\, Seattle\, WA\, 98102\, United States
CATEGORIES:Board Games,Video Games
ATTACH;FMTTYPE=:
END:VEVENT
BEGIN:VEVENT
DTSTART;TZID=America/Los_Angeles:20191027T130000
DTEND;TZID=America/Los_Angeles:20191027T160000
DTSTAMP:20260421T010127
CREATED:20191023T070707Z
LAST-MODIFIED:20191023T070707Z
UID:165-1572181200-1572192000@queergeekseattle.org
SUMMARY:October Board Game Meetup (Lynnwood)
DESCRIPTION:NOTE: This is an afternoon event. \nMeet up for some gaming and socializing. All LGBTQ folks and allies are welcome. You can just come to chat and meet new people or join in and play some games. We are very welcoming to new board gamers if you want to learn as well. Feel free to invite friends! \nThe venue has delicious drinks\, ice cream\, and snacks available and there is a Little Caesar’s Pizza next door. \nThey also have a demo library full of games\, but feel free to bring your own. \nWe’ll be providing name tag stickers that indicate gender pronouns. We want this to be a comfortable environment for everyone\, so please respect people’s listed or stated gender pronouns.
URL:https://queergeekseattle.org/event/october-board-game-meetup-lynnwood/
LOCATION:WA
CATEGORIES:Board Games
ATTACH;FMTTYPE=:
END:VEVENT
BEGIN:VEVENT
DTSTART;TZID=America/Los_Angeles:20191027T130000
DTEND;TZID=America/Los_Angeles:20191027T160000
DTSTAMP:20260421T010127
CREATED:20191023T070707Z
LAST-MODIFIED:20191023T070707Z
UID:203-1572181200-1572192000@queergeekseattle.org
SUMMARY:October Board Game Meetup (Lynnwood)
DESCRIPTION:NOTE: This is an afternoon event. \nMeet up for some gaming and socializing. All LGBTQ folks and allies are welcome. You can just come to chat and meet new people or join in and play some games. We are very welcoming to new board gamers if you want to learn as well. Feel free to invite friends! \nThe venue has delicious drinks\, ice cream\, and snacks available and there is a Little Caesar’s Pizza next door. \nThey also have a demo library full of games\, but feel free to bring your own. \nWe’ll be providing name tag stickers that indicate gender pronouns. We want this to be a comfortable environment for everyone\, so please respect people’s listed or stated gender pronouns.
URL:https://queergeekseattle.org/event/october-board-game-meetup-lynnwood-2/
LOCATION:WA
CATEGORIES:Board Games
ATTACH;FMTTYPE=:
END:VEVENT
END:VCALENDAR